Workbook

Sheet LEITURA
I1: Esta planilha foi desenvolvida em parceria com a equipe do blog O Rei das Planilhas:
A6: Defina ao lado a data de início de sua leitura. Preencha com um “x” os versículos já lidos e acompanhe seu progresso na próxima aba. | G6: LEITURA INICIADA EM | I6: DATA DE HOJE | K6: QUANTOS DIAS FALTAM
G7: 42388 | I7: =NOW() -> 42463.763 | K7: =ROUNDUP((PROGRESSO!G23+PROGRESSO!F23)/3,0) -> 365
G8: =HYPERLINK("#LEITURA!"&ADDRESS(ROW(LEITURA!$A$9)+LOOKUP(DATE(YEAR(LEITURA!$G$7),MONTH(LEITURA!$G$7),DAY(LEITURA!$G$7)),LEITURA!$E$10:$E$374,LEITURA!$A$10:$A$374),3),"VOLTAR PARA O INÍCIO") -> VOLTAR PARA O INÍCIO | I8: =HYPERLINK("#LEITURA!"&IF(LEITURA!$I$7>=LEITURA!$G$7,IF(AND(MONTH(LEITURA!$I$7)=MONTH(LEITURA!$G$7),YEAR(LEITURA!$I$7)=YEAR(LEITURA!$G$7)),ADDRESS(ROW(LEITURA!$A$9)+LOOKUP(DATE(YEAR(LEITURA!$I$7),MONTH(LEITURA!$I$7),DAY(LEITURA!$G$7)),LEITURA!$E$10:$E$374,LEITURA!$A$10:$A$374),3),ADDRESS(ROW(LEITURA!$A$9)+LOOKUP(DATE(YEAR(LEITURA!$I$7),MONTH(LEITURA!$I$7),1),LEITURA!$E$10:$E$374,LEITURA!$A$10:$A$374),3)),ADDRESS(ROW(LEITURA!$A$9)+LOOKUP(DATE(YEAR(LEITURA!$G$7),MONTH(LEITURA!$G$7),DAY(LEITURA!$G$7)),LEITURA!$E$10:$E$374,LEITURA!$A$10:$A$374),3)),"IR PARA MÊS ATUAL") -> IR PARA MÊS ATUAL | K8: =HYPERLINK("#PROGRESSO!$J$4","VER PROGRESSO") -> VER PROGRESSO | L8: >> | N8: leu? | O8: deveria? | P8: <<
A10: =A9+1 -> 1 | C10: =UPPER(TEXT(E10,"mmmm / aaaa")) -> JANEIRO / 2016 | E10: =DATE(YEAR(G7),MONTH(G7),DAY(G7)) -> 42388 | G10: Lucas 5:27-39 | I10: Gênesis 1-2 | K10: Salmos 1 | M10: =C10 -> JANEIRO / 2016 | N10: =IF(F10<>"",1,0)+IF(H10<>"",1,0)+IF(J10<>"",1,0) -> 0 | O10: =IF(AND($E10<=$I$7,F10=""),1,0)+IF(AND($E10<=$I$7,H10=""),1,0)+IF(AND($E10<=$I$7,J10=""),1,0) -> 3
A11: =A10+1 -> 2 | C11: =IF(MONTH(E11)<>MONTH(E10),UPPER(TEXT(E11,"mmmm / aaaa")),"") | E11: =E10+1 -> 42389 | G11: Lucas 6:1-26 | I11: Gênesis 3-5 | K11: Salmos 2 | M11: =IF(MONTH(E11)=MONTH(E10),M10,C11) -> JANEIRO / 2016 | N11: =IF(F11<>"",1,0)+IF(H11<>"",1,0)+IF(J11<>"",1,0) -> 0 | O11: =IF(AND($E11<=$I$7,F11=""),1,0)+IF(AND($E11<=$I$7,H11=""),1,0)+IF(AND($E11<=$I$7,J11=""),1,0) -> 3
A12: =A11+1 -> 3 | C12: =IF(MONTH(E12)<>MONTH(E11),UPPER(TEXT(E12,"mmmm / aaaa")),"") | E12: =E11+1 -> 42390 | G12: Lucas 6:27-49 | I12: Gênesis 6-7 | K12: Salmos 3 | M12: =IF(MONTH(E12)=MONTH(E11),M11,C12) -> JANEIRO / 2016 | N12: =IF(F12<>"",1,0)+IF(H12<>"",1,0)+IF(J12<>"",1,0) -> 0 | O12: =IF(AND($E12<=$I$7,F12=""),1,0)+IF(AND($E12<=$I$7,H12=""),1,0)+IF(AND($E12<=$I$7,J12=""),1,0) -> 3
A13: =A12+1 -> 4 | C13: =IF(MONTH(E13)<>MONTH(E12),UPPER(TEXT(E13,"mmmm / aaaa")),"") | E13: =E12+1 -> 42391 | G13: Lucas 7:1-17 | I13: Gênesis 8-10 | K13: Salmos 4 | M13: =IF(MONTH(E13)=MONTH(E12),M12,C13) -> JANEIRO / 2016 | N13: =IF(F13<>"",1,0)+IF(H13<>"",1,0)+IF(J13<>"",1,0) -> 0 | O13: =IF(AND($E13<=$I$7,F13=""),1,0)+IF(AND($E13<=$I$7,H13=""),1,0)+IF(AND($E13<=$I$7,J13=""),1,0) -> 3
A14: =A13+1 -> 5 | C14: =IF(MONTH(E14)<>MONTH(E13),UPPER(TEXT(E14,"mmmm / aaaa")),"") | E14: =E13+1 -> 42392 | G14: Lucas 7:18-50 | I14: Gênesis 11 | K14: Salmos 5 | M14: =IF(MONTH(E14)=MONTH(E13),M13,C14) -> JANEIRO / 2016 | N14: =IF(F14<>"",1,0)+IF(H14<>"",1,0)+IF(J14<>"",1,0) -> 0 | O14: =IF(AND($E14<=$I$7,F14=""),1,0)+IF(AND($E14<=$I$7,H14=""),1,0)+IF(AND($E14<=$I$7,J14=""),1,0) -> 3
A15: =A14+1 -> 6 | C15: =IF(MONTH(E15)<>MONTH(E14),UPPER(TEXT(E15,"mmmm / aaaa")),"") | E15: =E14+1 -> 42393 | G15: Lucas 8:1-25 | I15: Gênesis 12 | K15: Salmos 6 | M15: =IF(MONTH(E15)=MONTH(E14),M14,C15) -> JANEIRO / 2016 | N15: =IF(F15<>"",1,0)+IF(H15<>"",1,0)+IF(J15<>"",1,0) -> 0 | O15: =IF(AND($E15<=$I$7,F15=""),1,0)+IF(AND($E15<=$I$7,H15=""),1,0)+IF(AND($E15<=$I$7,J15=""),1,0) -> 3
A16: =A15+1 -> 7 | C16: =IF(MONTH(E16)<>MONTH(E15),UPPER(TEXT(E16,"mmmm / aaaa")),"") | E16: =E15+1 -> 42394 | G16: Lucas 8:26-56 | I16: Gênesis 13-14 | K16: Salmos 7 | M16: =IF(MONTH(E16)=MONTH(E15),M15,C16) -> JANEIRO / 2016 | N16: =IF(F16<>"",1,0)+IF(H16<>"",1,0)+IF(J16<>"",1,0) -> 0 | O16: =IF(AND($E16<=$I$7,F16=""),1,0)+IF(AND($E16<=$I$7,H16=""),1,0)+IF(AND($E16<=$I$7,J16=""),1,0) -> 3
A17: =A16+1 -> 8 | C17: =IF(MONTH(E17)<>MONTH(E16),UPPER(TEXT(E17,"mmmm / aaaa")),"") | E17: =E16+1 -> 42395 | G17: Lucas 9:1-27 | I17: Gênesis 15 | K17: Salmos 8 | M17: =IF(MONTH(E17)=MONTH(E16),M16,C17) -> JANEIRO / 2016 | N17: =IF(F17<>"",1,0)+IF(H17<>"",1,0)+IF(J17<>"",1,0) -> 0 | O17: =IF(AND($E17<=$I$7,F17=""),1,0)+IF(AND($E17<=$I$7,H17=""),1,0)+IF(AND($E17<=$I$7,J17=""),1,0) -> 3
A18: =A17+1 -> 9 | C18: =IF(MONTH(E18)<>MONTH(E17),UPPER(TEXT(E18,"mmmm / aaaa")),"") | E18: =E17+1 -> 42396 | G18: Lucas 9:28-62 | I18: Gênesis 16 | K18: Salmos 9 | M18: =IF(MONTH(E18)=MONTH(E17),M17,C18) -> JANEIRO / 2016 | N18: =IF(F18<>"",1,0)+IF(H18<>"",1,0)+IF(J18<>"",1,0) -> 0 | O18: =IF(AND($E18<=$I$7,F18=""),1,0)+IF(AND($E18<=$I$7,H18=""),1,0)+IF(AND($E18<=$I$7,J18=""),1,0) -> 3
A19: =A18+1 -> 10 | C19: =IF(MONTH(E19)<>MONTH(E18),UPPER(TEXT(E19,"mmmm / aaaa")),"") | E19: =E18+1 -> 42397 | G19: Lucas 10:1-20 | I19: Gênesis 17 | K19: Salmos 10 | M19: =IF(MONTH(E19)=MONTH(E18),M18,C19) -> JANEIRO / 2016 | N19: =IF(F19<>"",1,0)+IF(H19<>"",1,0)+IF(J19<>"",1,0) -> 0 | O19: =IF(AND($E19<=$I$7,F19=""),1,0)+IF(AND($E19<=$I$7,H19=""),1,0)+IF(AND($E19<=$I$7,J19=""),1,0) -> 3
A20: =A19+1 -> 11 | C20: =IF(MONTH(E20)<>MONTH(E19),UPPER(TEXT(E20,"mmmm / aaaa")),"") | E20: =E19+1 -> 42398 | G20: Lucas 10:21-42 | I20: Gênesis 18 | K20: Salmos 11 | M20: =IF(MONTH(E20)=MONTH(E19),M19,C20) -> JANEIRO / 2016 | N20: =IF(F20<>"",1,0)+IF(H20<>"",1,0)+IF(J20<>"",1,0) -> 0 | O20: =IF(AND($E20<=$I$7,F20=""),1,0)+IF(AND($E20<=$I$7,H20=""),1,0)+IF(AND($E20<=$I$7,J20=""),1,0) -> 3
A21: =A20+1 -> 12 | C21: =IF(MONTH(E21)<>MONTH(E20),UPPER(TEXT(E21,"mmmm / aaaa")),"") | E21: =E20+1 -> 42399 | G21: Lucas 11:1-28 | I21: Gênesis 19 | K21: Salmos 12 | M21: =IF(MONTH(E21)=MONTH(E20),M20,C21) -> JANEIRO / 2016 | N21: =IF(F21<>"",1,0)+IF(H21<>"",1,0)+IF(J21<>"",1,0) -> 0 | O21: =IF(AND($E21<=$I$7,F21=""),1,0)+IF(AND($E21<=$I$7,H21=""),1,0)+IF(AND($E21<=$I$7,J21=""),1,0) -> 3
A22: =A21+1 -> 13 | C22: =IF(MONTH(E22)<>MONTH(E21),UPPER(TEXT(E22,"mmmm / aaaa")),"") | E22: =E21+1 -> 42400 | G22: Lucas 11:29-54 | I22: Gênesis 20 | K22: Salmos 13 | M22: =IF(MONTH(E22)=MONTH(E21),M21,C22) -> JANEIRO / 2016 | N22: =IF(F22<>"",1,0)+IF(H22<>"",1,0)+IF(J22<>"",1,0) -> 0 | O22: =IF(AND($E22<=$I$7,F22=""),1,0)+IF(AND($E22<=$I$7,H22=""),1,0)+IF(AND($E22<=$I$7,J22=""),1,0) -> 3
... A374: =A373+1 -> 365 | C374: =IF(MONTH(E374)<>MONTH(E373),UPPER(TEXT(E374,"mmmm / aaaa")),"") | E374: =E373+1 -> 42752 | G374: Lucas 5:1-26 | I374: Ezequiel 48 | K374: Isaías 66 | M374: =IF(MONTH(E374)=MONTH(E373),M373,C374) -> JANEIRO / 2017 | N374: =IF(F374<>"",1,0)+IF(H374<>"",1,0)+IF(J374<>"",1,0) -> 0 | O374: =IF(AND($E374<=$I$7,F374=""),1,0)+IF(AND($E374<=$I$7,H374=""),1,0)+IF(AND($E374<=$I$7,J374=""),1,0) -> 0
O375: =IF(AND($E375<=$I$7,F375=""),1,0)+IF(AND($E375<=$I$7,H375=""),1,0)+IF(AND($E375<=$I$7,J375=""),1,0) -> 3

Sheet PROGRESSO
J4: ACOMPANHAMENTO MENSAL | M4: =HYPERLINK("#LEITURA!"&ADDRESS(ROW(LEITURA!$A$9)+LOOKUP(DATE(YEAR(LEITURA!$G$7),MONTH(LEITURA!$G$7),DAY(LEITURA!$G$7)),LEITURA!$E$10:$E$374,LEITURA!$A$10:$A$374),3),"VOLTAR PARA LEITURA") -> VOLTAR PARA LEITURA
E9: TEXTOS LIDOS | F9: LEITURAS PENDENTES | G9: PRÓXIMAS LEITURAS
B10: =LEITURA!E10 -> 42388 | C10: =IF(B10<>"",UPPER(TEXT(DATE(YEAR(B10),MONTH(B10),1),"mmmm / aaaa")),"") -> JANEIRO / 2016 | D10: =COUNTIF(LEITURA!M10:M374,"="&C10)*3 -> 39 | E10: =SUMIF(LEITURA!M10:M374,"="&C10,LEITURA!N10:N374) -> 0 | F10: =SUMIF(LEITURA!M10:M374,"="&C10,LEITURA!O10:O374) -> 39 | G10: =D10-(E10+F10) -> 0
B11: =DATE(YEAR(B10),MONTH(B10)+1,1) -> 42401 | C11: =IF(B11<>"",UPPER(TEXT(DATE(YEAR(B11),MONTH(B11),1),"mmmm / aaaa")),"") -> FEVEREIRO / 2016 | D11: =COUNTIF(LEITURA!M11:M375,"="&C11)*3 -> 87 | E11: =SUMIF(LEITURA!M11:M375,"="&C11,LEITURA!N11:N375) -> 0 | F11: =SUMIF(LEITURA!M11:M375,"="&C11,LEITURA!O11:O375) -> 87 | G11: =D11-(E11+F11) -> 0
B12: =DATE(YEAR(B11),MONTH(B11)+1,1) -> 42430 | C12: =IF(B12<>"",UPPER(TEXT(DATE(YEAR(B12),MONTH(B12),1),"mmmm / aaaa")),"") -> MARÇO / 2016 | D12: =COUNTIF(LEITURA!M12:M376,"="&C12)*3 -> 93 | E12: =SUMIF(LEITURA!M12:M376,"="&C12,LEITURA!N12:N376) -> 0 | F12: =SUMIF(LEITURA!M12:M376,"="&C12,LEITURA!O12:O376) -> 93 | G12: =D12-(E12+F12) -> 0
B13: =DATE(YEAR(B12),MONTH(B12)+1,1) -> 42461 | C13: =IF(B13<>"",UPPER(TEXT(DATE(YEAR(B13),MONTH(B13),1),"mmmm / aaaa")),"") -> ABRIL / 2016 | D13: =COUNTIF(LEITURA!M13:M377,"="&C13)*3 -> 90 | E13: =SUMIF(LEITURA!M13:M377,"="&C13,LEITURA!N13:N377) -> 0 | F13: =SUMIF(LEITURA!M13:M377,"="&C13,LEITURA!O13:O377) -> 9 | G13: =D13-(E13+F13) -> 81
B14: =DATE(YEAR(B13),MONTH(B13)+1,1) -> 42491 | C14: =IF(B14<>"",UPPER(TEXT(DATE(YEAR(B14),MONTH(B14),1),"mmmm / aaaa")),"") -> MAIO / 2016 | D14: =COUNTIF(LEITURA!M14:M378,"="&C14)*3 -> 93 | E14: =SUMIF(LEITURA!M14:M378,"="&C14,LEITURA!N14:N378) -> 0 | F14: =SUMIF(LEITURA!M14:M378,"="&C14,LEITURA!O14:O378) -> 0 | G14: =D14-(E14+F14) -> 93
B15: =DATE(YEAR(B14),MONTH(B14)+1,1) -> 42522 | C15: =IF(B15<>"",UPPER(TEXT(DATE(YEAR(B15),MONTH(B15),1),"mmmm / aaaa")),"") -> JUNHO / 2016 | D15: =COUNTIF(LEITURA!M15:M379,"="&C15)*3 -> 90 | E15: =SUMIF(LEITURA!M15:M379,"="&C15,LEITURA!N15:N379) -> 0 | F15: =SUMIF(LEITURA!M15:M379,"="&C15,LEITURA!O15:O379) -> 0 | G15: =D15-(E15+F15) -> 90
B16: =DATE(YEAR(B15),MONTH(B15)+1,1) -> 42552 | C16: =IF(B16<>"",UPPER(TEXT(DATE(YEAR(B16),MONTH(B16),1),"mmmm / aaaa")),"") -> JULHO / 2016 | D16: =COUNTIF(LEITURA!M16:M380,"="&C16)*3 -> 93 | E16: =SUMIF(LEITURA!M16:M380,"="&C16,LEITURA!N16:N380) -> 0 | F16: =SUMIF(LEITURA!M16:M380,"="&C16,LEITURA!O16:O380) -> 0 | G16: =D16-(E16+F16) -> 93
B17: =DATE(YEAR(B16),MONTH(B16)+1,1) -> 42583 | C17: =IF(B17<>"",UPPER(TEXT(DATE(YEAR(B17),MONTH(B17),1),"mmmm / aaaa")),"") -> AGOSTO / 2016 | D17: =COUNTIF(LEITURA!M17:M381,"="&C17)*3 -> 93 | E17: =SUMIF(LEITURA!M17:M381,"="&C17,LEITURA!N17:N381) -> 0 | F17: =SUMIF(LEITURA!M17:M381,"="&C17,LEITURA!O17:O381) -> 0 | G17: =D17-(E17+F17) -> 93
B18: =DATE(YEAR(B17),MONTH(B17)+1,1) -> 42614 | C18: =IF(B18<>"",UPPER(TEXT(DATE(YEAR(B18),MONTH(B18),1),"mmmm / aaaa")),"") -> SETEMBRO / 2016 | D18: =COUNTIF(LEITURA!M18:M382,"="&C18)*3 -> 90 | E18: =SUMIF(LEITURA!M18:M382,"="&C18,LEITURA!N18:N382) -> 0 | F18: =SUMIF(LEITURA!M18:M382,"="&C18,LEITURA!O18:O382) -> 0 | G18: =D18-(E18+F18) -> 90
B19: =DATE(YEAR(B18),MONTH(B18)+1,1) -> 42644 | C19: =IF(B19<>"",UPPER(TEXT(DATE(YEAR(B19),MONTH(B19),1),"mmmm / aaaa")),"") -> OUTUBRO / 2016 | D19: =COUNTIF(LEITURA!M19:M383,"="&C19)*3 -> 93 | E19: =SUMIF(LEITURA!M19:M383,"="&C19,LEITURA!N19:N383) -> 0 | F19: =SUMIF(LEITURA!M19:M383,"="&C19,LEITURA!O19:O383) -> 0 | G19: =D19-(E19+F19) -> 93
B20: =DATE(YEAR(B19),MONTH(B19)+1,1) -> 42675 | C20: =IF(B20<>"",UPPER(TEXT(DATE(YEAR(B20),MONTH(B20),1),"mmmm / aaaa")),"") -> NOVEMBRO / 2016 | D20: =COUNTIF(LEITURA!M20:M384,"="&C20)*3 -> 90 | E20: =SUMIF(LEITURA!M20:M384,"="&C20,LEITURA!N20:N384) -> 0 | F20: =SUMIF(LEITURA!M20:M384,"="&C20,LEITURA!O20:O384) -> 0 | G20: =D20-(E20+F20) -> 90
B21: =DATE(YEAR(B20),MONTH(B20)+1,1) -> 42705 | C21: =IF(B21<>"",UPPER(TEXT(DATE(YEAR(B21),MONTH(B21),1),"mmmm / aaaa")),"") -> DEZEMBRO / 2016 | D21: =COUNTIF(LEITURA!M21:M385,"="&C21)*3 -> 93 | E21: =SUMIF(LEITURA!M21:M385,"="&C21,LEITURA!N21:N385) -> 0 | F21: =SUMIF(LEITURA!M21:M385,"="&C21,LEITURA!O21:O385) -> 0 | G21: =D21-(E21+F21) -> 93
B22: =IF(DAY(B10)>1,DATE(YEAR(B21),MONTH(B21)+1,1),"") -> 42736 | C22: =IF(B22<>"",UPPER(TEXT(DATE(YEAR(B22),MONTH(B22),1),"mmmm / aaaa")),"") -> JANEIRO / 2017 | D22: =IF(C22<>"",COUNTIF(LEITURA!M22:M386,"="&C22)*3,"") -> 51 | E22: =IF(D22<>"",SUMIF(LEITURA!M22:M386,"="&C22,LEITURA!N22:N386),"") -> 0 | F22: =IF(D22<>"",SUMIF(LEITURA!M22:M386,"="&C22,LEITURA!O22:O386),"") -> 0 | G22: =IF(E22<>"",D22-(F22+E22),"") -> 51
B23: PROGRESSO | D23: =SUM(D10:D22) -> 1095 | E23: =SUM(E10:E22) -> 0 | F23: =SUM(F10:F22) -> 228 | G23: =SUM(G10:G22) -> 867
J42: PROGRESSO DA LEITURA | M42: =HYPERLINK("#LEITURA!"&ADDRESS(ROW(LEITURA!$A$9)+LOOKUP(DATE(YEAR(LEITURA!$G$7),MONTH(LEITURA!$G$7),DAY(LEITURA!$G$7)),LEITURA!$E$10:$E$374,LEITURA!$A$10:$A$374),3),"VOLTAR PARA LEITURA") -> VOLTAR PARA LEITURA
